BEGIN:VCALENDAR
VERSION:2.0
PRODID:-//Colegio San Agustín - ECPv6.15.20//NONSGML v1.0//EN
CALSCALE:GREGORIAN
METHOD:PUBLISH
X-WR-CALNAME:Colegio San Agustín
X-ORIGINAL-URL:https://www.colegiosanagustin.cl
X-WR-CALDESC:Eventos para Colegio San Agustín
REFRESH-INTERVAL;VALUE=DURATION:PT1H
X-Robots-Tag:noindex
X-PUBLISHED-TTL:PT1H
BEGIN:VTIMEZONE
TZID:America/Halifax
BEGIN:DAYLIGHT
TZOFFSETFROM:-0400
TZOFFSETTO:-0300
TZNAME:ADT
DTSTART:20250309T060000
END:DAYLIGHT
BEGIN:STANDARD
TZOFFSETFROM:-0300
TZOFFSETTO:-0400
TZNAME:AST
DTSTART:20251102T050000
END:STANDARD
BEGIN:DAYLIGHT
TZOFFSETFROM:-0400
TZOFFSETTO:-0300
TZNAME:ADT
DTSTART:20260308T060000
END:DAYLIGHT
BEGIN:STANDARD
TZOFFSETFROM:-0300
TZOFFSETTO:-0400
TZNAME:AST
DTSTART:20261101T050000
END:STANDARD
BEGIN:DAYLIGHT
TZOFFSETFROM:-0400
TZOFFSETTO:-0300
TZNAME:ADT
DTSTART:20270314T060000
END:DAYLIGHT
BEGIN:STANDARD
TZOFFSETFROM:-0300
TZOFFSETTO:-0400
TZNAME:AST
DTSTART:20271107T050000
END:STANDARD
END:VTIMEZONE
BEGIN:VEVENT
DTSTART;TZID=America/Halifax:20260420T080000
DTEND;TZID=America/Halifax:20260420T170000
DTSTAMP:20260422T053357
CREATED:20260413T190755Z
LAST-MODIFIED:20260413T190756Z
UID:28933-1776672000-1776704400@www.colegiosanagustin.cl
SUMMARY:Charlas de padres Kínder - Identidad y sexualidad en la infancia
DESCRIPTION:
URL:https://www.colegiosanagustin.cl/evento/charlas-de-padres-kinder-identidad-y-sexualidad-en-la-infancia/
CATEGORIES:Calendario Actividades
ATTACH;FMTTYPE=image/jpeg:https://www.colegiosanagustin.cl/wp-content/uploads/2026/04/Charlas-de-padres.jpg
END:VEVENT
BEGIN:VEVENT
DTSTART;TZID=America/Halifax:20260420T080000
DTEND;TZID=America/Halifax:20260420T170000
DTSTAMP:20260422T053357
CREATED:20260414T155028Z
LAST-MODIFIED:20260414T155028Z
UID:28966-1776672000-1776704400@www.colegiosanagustin.cl
SUMMARY:J. Pastoral 2°B
DESCRIPTION:
URL:https://www.colegiosanagustin.cl/evento/j-pastoral-2b/
CATEGORIES:Calendario Actividades
ATTACH;FMTTYPE=image/jpeg:https://www.colegiosanagustin.cl/wp-content/uploads/2026/04/misa-4-marzo.jpg
END:VEVENT
END:VCALENDAR